BEGIN:VCALENDAR
VERSION:2.0
PRODID:-//Karkkilan kaupunki - ECPv6.15.20//NONSGML v1.0//EN
CALSCALE:GREGORIAN
METHOD:PUBLISH
X-WR-CALNAME:Karkkilan kaupunki
X-ORIGINAL-URL:https://karkkila.fi
X-WR-CALDESC:Tapahtumat Karkkilan kaupunki
REFRESH-INTERVAL;VALUE=DURATION:PT1H
X-Robots-Tag:noindex
X-PUBLISHED-TTL:PT1H
BEGIN:VTIMEZONE
TZID:Europe/Helsinki
BEGIN:DAYLIGHT
TZOFFSETFROM:+0200
TZOFFSETTO:+0300
TZNAME:EEST
DTSTART:20250330T010000
END:DAYLIGHT
BEGIN:STANDARD
TZOFFSETFROM:+0300
TZOFFSETTO:+0200
TZNAME:EET
DTSTART:20251026T010000
END:STANDARD
BEGIN:DAYLIGHT
TZOFFSETFROM:+0200
TZOFFSETTO:+0300
TZNAME:EEST
DTSTART:20260329T010000
END:DAYLIGHT
BEGIN:STANDARD
TZOFFSETFROM:+0300
TZOFFSETTO:+0200
TZNAME:EET
DTSTART:20261025T010000
END:STANDARD
BEGIN:DAYLIGHT
TZOFFSETFROM:+0200
TZOFFSETTO:+0300
TZNAME:EEST
DTSTART:20270328T010000
END:DAYLIGHT
BEGIN:STANDARD
TZOFFSETFROM:+0300
TZOFFSETTO:+0200
TZNAME:EET
DTSTART:20271031T010000
END:STANDARD
END:VTIMEZONE
BEGIN:VEVENT
DTSTART;TZID=Europe/Helsinki:20260105T190000
DTEND;TZID=Europe/Helsinki:20260105T190000
DTSTAMP:20260420T084834
CREATED:20251126T115708Z
LAST-MODIFIED:20251218T143206Z
UID:23312-1767639600-1767639600@karkkila.fi
SUMMARY:Iso Iita
DESCRIPTION:Heikki Kujanpään ja Antti Heikkisen käsikirjoittama Iso Iita on aito savolainen kansankomedia karkkilalaisittain. Iso Iita on siis roisi\, reipas ja räväkkä tarina vanhempiaan pienestä kyläapteekista etsivästä Iitasta. Vanhempien löytyminen osoittautuu haasteelliseksi\, mutta paljon muuta Iita sitten löytääkin. Aikuisyleisölle suunnattu\, alun perin Savoon ja osittain Savon murteella kirjoitettu tarina on kokenut melkoisen karkkilalaistamisprosessin Elina Tuomen murrekäännöksessä. Kuopion kaupunginteatterissa kantaesitetty näytelmä esitetään nyt siis Karkkilassa Ahmoon työväentalolla talvikaudella 2025 – 2026\, esityksen Teatteri Perälle ohjaa Liisa Pylkkänen. Esitys valmistetaan yhteistyössä Karkkilan työväenopiston kanssa. \nLipunhinta ennakkoon 28 / 24 euroa (plus mahdolliset palvelumaksut) sisältäen suunmukaiset pullakaffeet. Lippuja myy ennakkoon Lippu.fi\, mutta huomioithan\, että kaffelipullisten lippujen myynti päättyy 3 päivää ennen esityspäivää.\nIlman kaffeita hinnat ennakkoon 22 / 18 euroa (plus mahdolliset palvelumaksut) ja ovelta 26 / 24 euroa. Tapahtumaan on vapaa pääsy Kaikukortilla.\nRyhmien (alkaen 8 henkilöä)\, Kaikukorttilippujen ja avustajalippujen paikkavaraukset: teatteripera@gmail.com \nLisätietoja esityksestä:\nhttps://teatteripera.yhdistysavain.fi/iso-iita/ sekä teatteripera@gmail.com
URL:https://karkkila.fi/tapahtuma/iso-iita-6/
LOCATION:Ahmoon työväentalo\, Paunilantie 5\, KARKKILA\, 03620\, Finland
CATEGORIES:Esittävät taiteet ja teatteri,Matkailu - Visit Karkkila
ATTACH;FMTTYPE=image/jpeg:https://karkkila.fi/wp-content/uploads/2025/10/Iso-Iita.jpg
END:VEVENT
END:VCALENDAR