BEGIN:VCALENDAR
VERSION:2.0
PRODID:-//Karkkilan kaupunki - ECPv6.15.20//NONSGML v1.0//EN
CALSCALE:GREGORIAN
METHOD:PUBLISH
X-WR-CALNAME:Karkkilan kaupunki
X-ORIGINAL-URL:https://karkkila.fi
X-WR-CALDESC:Tapahtumat Karkkilan kaupunki
REFRESH-INTERVAL;VALUE=DURATION:PT1H
X-Robots-Tag:noindex
X-PUBLISHED-TTL:PT1H
BEGIN:VTIMEZONE
TZID:Europe/Helsinki
BEGIN:DAYLIGHT
TZOFFSETFROM:+0200
TZOFFSETTO:+0300
TZNAME:EEST
DTSTART:20250330T010000
END:DAYLIGHT
BEGIN:STANDARD
TZOFFSETFROM:+0300
TZOFFSETTO:+0200
TZNAME:EET
DTSTART:20251026T010000
END:STANDARD
BEGIN:DAYLIGHT
TZOFFSETFROM:+0200
TZOFFSETTO:+0300
TZNAME:EEST
DTSTART:20260329T010000
END:DAYLIGHT
BEGIN:STANDARD
TZOFFSETFROM:+0300
TZOFFSETTO:+0200
TZNAME:EET
DTSTART:20261025T010000
END:STANDARD
BEGIN:DAYLIGHT
TZOFFSETFROM:+0200
TZOFFSETTO:+0300
TZNAME:EEST
DTSTART:20270328T010000
END:DAYLIGHT
BEGIN:STANDARD
TZOFFSETFROM:+0300
TZOFFSETTO:+0200
TZNAME:EET
DTSTART:20271031T010000
END:STANDARD
END:VTIMEZONE
BEGIN:VEVENT
DTSTART;TZID=Europe/Helsinki:20260427T120000
DTEND;TZID=Europe/Helsinki:20260427T123000
DTSTAMP:20260425T021213
CREATED:20260424T105808Z
LAST-MODIFIED:20260424T123128Z
UID:52265-1777291200-1777293000@karkkila.fi
SUMMARY:Kansallisen veteraanipäivän hartaus kirkossa ja seppeleenlasku sankaripatsaalla
DESCRIPTION:Kansallisen veteraanipäivän hartaus pidetään kirkossa klo 12. Hartauden jälkeen seurakunnan\, kaupungin ja kotiseutuyhdistyksen edustajat laskevat seppeleen sankaripatsaalle. Seppeleen laskun jälkeen kahvitilaisuus Pohjanpirtillä. Tilaisuudessa reserviläiset järjestävät lippulinnan ja patsasvartion. Hartauden toimittavat kirkkoherra Hannu Bogdanoff\, kanttori Anne Rahko-Leino ja seurakunnan veteraanikuoro Huru-Ukot.
URL:https://karkkila.fi/tapahtuma/kansallisen-veteraanipaivan-hartaus-kirkossa-ja-seppeleenlasku-sankaripatsaalla/
LOCATION:Karkkilan kirkko\, Huhdintie 9-11\, KARKKILA\, 03600\, Finland
CATEGORIES:Karkkilan seurakunta,Osallisuus, verkostoituminen ja yhteisöt
ATTACH;FMTTYPE=image/jpeg:https://karkkila.fi/wp-content/uploads/2026/04/Veteraanipaiva1.jpg
END:VEVENT
END:VCALENDAR