BEGIN:VCALENDAR
VERSION:2.0
PRODID:-//Karkkilan kaupunki - ECPv6.15.20//NONSGML v1.0//EN
CALSCALE:GREGORIAN
METHOD:PUBLISH
X-WR-CALNAME:Karkkilan kaupunki
X-ORIGINAL-URL:https://karkkila.fi
X-WR-CALDESC:Tapahtumat Karkkilan kaupunki
REFRESH-INTERVAL;VALUE=DURATION:PT1H
X-Robots-Tag:noindex
X-PUBLISHED-TTL:PT1H
BEGIN:VTIMEZONE
TZID:Europe/Helsinki
BEGIN:DAYLIGHT
TZOFFSETFROM:+0200
TZOFFSETTO:+0300
TZNAME:EEST
DTSTART:20250330T010000
END:DAYLIGHT
BEGIN:STANDARD
TZOFFSETFROM:+0300
TZOFFSETTO:+0200
TZNAME:EET
DTSTART:20251026T010000
END:STANDARD
BEGIN:DAYLIGHT
TZOFFSETFROM:+0200
TZOFFSETTO:+0300
TZNAME:EEST
DTSTART:20260329T010000
END:DAYLIGHT
BEGIN:STANDARD
TZOFFSETFROM:+0300
TZOFFSETTO:+0200
TZNAME:EET
DTSTART:20261025T010000
END:STANDARD
BEGIN:DAYLIGHT
TZOFFSETFROM:+0200
TZOFFSETTO:+0300
TZNAME:EEST
DTSTART:20270328T010000
END:DAYLIGHT
BEGIN:STANDARD
TZOFFSETFROM:+0300
TZOFFSETTO:+0200
TZNAME:EET
DTSTART:20271031T010000
END:STANDARD
END:VTIMEZONE
BEGIN:VEVENT
DTSTART;TZID=Europe/Helsinki:20260425T100000
DTEND;TZID=Europe/Helsinki:20260425T140000
DTSTAMP:20260423T231604
CREATED:20260423T164802Z
LAST-MODIFIED:20260423T165544Z
UID:52196-1777111200-1777125600@karkkila.fi
SUMMARY:Kaupungin Raksabonusedut ja tarjoustontit esittelyssä V.Leinon kevätmarkkinoilla
DESCRIPTION:Tervetuloa tonttikaupoille V.Leinon markkinoille! \nKarkkilan kaupungin Raksabonustarjoukset ja kaupungin palvelut ovat esittelyssä Leinon kevätmarkkinoilla (Yrittäjäntie 24) perjantaina klo 10–16 ja lauantaina klo 10–14. \nTule tapaamaan rakennusvalvonnan ja tonttimyynnin edustajia sekä saamaan tietoa Karkkilasta ja ajankohtaisista tapahtumistamme! \nKarkkilan kaupunki tarjoaa omakotitalon rakentajille mahtavia etuja ja tarjouksia.  https://karkkila.fi/asuminen-ja-ymparisto/rakentajan-raksabonus/  \nTervetuloa markkinoille! \nK-Rauta V.Leino Oy on Karkkilan kaupungin markkinointiyhteistyökumppani.
URL:https://karkkila.fi/tapahtuma/kaupungin-raksabonusedut-ja-tarjoustontit-esittelyssa-k-rauta-v-leinon-kevatmarkkinoilla-24-25-4/
LOCATION:K-Rauta V. Leino\, Yrittäjäntie 24\, Karkkila\, 03600\, Finland
CATEGORIES:Elinkeino- ja yritystapahtumat,Markkinat ja myyjäiset
ATTACH;FMTTYPE=image/jpeg:https://karkkila.fi/wp-content/uploads/2026/04/kar-raksabonus-banneri-pienennetty-1.jpg
END:VEVENT
END:VCALENDAR