BEGIN:VCALENDAR
VERSION:2.0
PRODID:-//Karkkilan kaupunki - ECPv6.15.20//NONSGML v1.0//EN
CALSCALE:GREGORIAN
METHOD:PUBLISH
X-WR-CALNAME:Karkkilan kaupunki
X-ORIGINAL-URL:https://karkkila.fi
X-WR-CALDESC:Tapahtumat Karkkilan kaupunki
REFRESH-INTERVAL;VALUE=DURATION:PT1H
X-Robots-Tag:noindex
X-PUBLISHED-TTL:PT1H
BEGIN:VTIMEZONE
TZID:Europe/Helsinki
BEGIN:DAYLIGHT
TZOFFSETFROM:+0200
TZOFFSETTO:+0300
TZNAME:EEST
DTSTART:20250330T010000
END:DAYLIGHT
BEGIN:STANDARD
TZOFFSETFROM:+0300
TZOFFSETTO:+0200
TZNAME:EET
DTSTART:20251026T010000
END:STANDARD
BEGIN:DAYLIGHT
TZOFFSETFROM:+0200
TZOFFSETTO:+0300
TZNAME:EEST
DTSTART:20260329T010000
END:DAYLIGHT
BEGIN:STANDARD
TZOFFSETFROM:+0300
TZOFFSETTO:+0200
TZNAME:EET
DTSTART:20261025T010000
END:STANDARD
BEGIN:DAYLIGHT
TZOFFSETFROM:+0200
TZOFFSETTO:+0300
TZNAME:EEST
DTSTART:20270328T010000
END:DAYLIGHT
BEGIN:STANDARD
TZOFFSETFROM:+0300
TZOFFSETTO:+0200
TZNAME:EET
DTSTART:20271031T010000
END:STANDARD
END:VTIMEZONE
BEGIN:VEVENT
DTSTART;TZID=Europe/Helsinki:20260603T180000
DTEND;TZID=Europe/Helsinki:20260603T183000
DTSTAMP:20260425T133300
CREATED:20260423T065827Z
LAST-MODIFIED:20260424T124856Z
UID:52122-1780509600-1780511400@karkkila.fi
SUMMARY:Kesäyön unelmia kirjastokonsertissa
DESCRIPTION:Miikka Hakomäki (alttoviulu) ja Jonne Grans (kitara) esiintyvät Karkkilan kaupunginkirjastossa (Valtatie 26 E) keskiviikkona 3.6.2026 kello 18. Kesäyön unelmia -konsertin ohjelmassa kuullaan mm. Sibeliuksen Valse triste\, Toivo Kuulaa ja Robert Fuchsia sekä valikoima Mendelssohnin Sanattomia lauluja – kesäistä kaihoa ja valoa ilman sanoja. \nKonsertti kestää noin puoli tuntia ja siihen on vapaa pääsy. Tervetuloa!
URL:https://karkkila.fi/tapahtuma/kesayon-unelmia-kirjastokonsertissa/
LOCATION:Karkkilan kaupunginkirjasto\, Valtatie 26 E\, Karkkila\, 03600
CATEGORIES:Kirjasto,Matkailu - Visit Karkkila,Musiikki ja konsertit
ATTACH;FMTTYPE=image/jpeg:https://karkkila.fi/wp-content/uploads/2026/04/Kesayon-unelmia-kirjastokonsertti-16-9.jpg
END:VEVENT
END:VCALENDAR