BEGIN:VCALENDAR
VERSION:2.0
PRODID:-//Karkkilan kaupunki - ECPv6.15.20//NONSGML v1.0//EN
CALSCALE:GREGORIAN
METHOD:PUBLISH
X-WR-CALNAME:Karkkilan kaupunki
X-ORIGINAL-URL:https://karkkila.fi
X-WR-CALDESC:Tapahtumat Karkkilan kaupunki
REFRESH-INTERVAL;VALUE=DURATION:PT1H
X-Robots-Tag:noindex
X-PUBLISHED-TTL:PT1H
BEGIN:VTIMEZONE
TZID:Europe/Helsinki
BEGIN:DAYLIGHT
TZOFFSETFROM:+0200
TZOFFSETTO:+0300
TZNAME:EEST
DTSTART:20250330T010000
END:DAYLIGHT
BEGIN:STANDARD
TZOFFSETFROM:+0300
TZOFFSETTO:+0200
TZNAME:EET
DTSTART:20251026T010000
END:STANDARD
BEGIN:DAYLIGHT
TZOFFSETFROM:+0200
TZOFFSETTO:+0300
TZNAME:EEST
DTSTART:20260329T010000
END:DAYLIGHT
BEGIN:STANDARD
TZOFFSETFROM:+0300
TZOFFSETTO:+0200
TZNAME:EET
DTSTART:20261025T010000
END:STANDARD
BEGIN:DAYLIGHT
TZOFFSETFROM:+0200
TZOFFSETTO:+0300
TZNAME:EEST
DTSTART:20270328T010000
END:DAYLIGHT
BEGIN:STANDARD
TZOFFSETFROM:+0300
TZOFFSETTO:+0200
TZNAME:EET
DTSTART:20271031T010000
END:STANDARD
END:VTIMEZONE
BEGIN:VEVENT
DTSTART;VALUE=DATE:20260801
DTEND;VALUE=DATE:20260901
DTSTAMP:20260419T175105
CREATED:20260415T104420Z
LAST-MODIFIED:20260415T104420Z
UID:50899-1785542400-1788220799@karkkila.fi
SUMMARY:Kirjastogalleria : Johanna Mikkola
DESCRIPTION:Karkkilan Kirjastogalleriassa on esillä 3.-31.8.2026 Johanna Mikkolan akryylimaalauksia. Näyttely on avoinna kirjaston aukioloaikoina (myös omatoimiaikoina).
URL:https://karkkila.fi/tapahtuma/kirjastogalleria-johanna-mikkola/
LOCATION:Karkkilan kaupunginkirjasto\, Valtatie 26 E\, Karkkila\, 03600
CATEGORIES:Kirjasto,Kirjastogalleria,Kulttuuri ja taide,Näyttelyt
ATTACH;FMTTYPE=image/jpeg:https://karkkila.fi/wp-content/uploads/2025/09/Kirjaston-kesainen-sisaankaynti-2022.jpg
END:VEVENT
END:VCALENDAR