BEGIN:VCALENDAR
VERSION:2.0
PRODID:-//Karkkilan kaupunki - ECPv6.15.20//NONSGML v1.0//EN
CALSCALE:GREGORIAN
METHOD:PUBLISH
X-WR-CALNAME:Karkkilan kaupunki
X-ORIGINAL-URL:https://karkkila.fi
X-WR-CALDESC:Tapahtumat Karkkilan kaupunki
REFRESH-INTERVAL;VALUE=DURATION:PT1H
X-Robots-Tag:noindex
X-PUBLISHED-TTL:PT1H
BEGIN:VTIMEZONE
TZID:Europe/Helsinki
BEGIN:DAYLIGHT
TZOFFSETFROM:+0200
TZOFFSETTO:+0300
TZNAME:EEST
DTSTART:20250330T010000
END:DAYLIGHT
BEGIN:STANDARD
TZOFFSETFROM:+0300
TZOFFSETTO:+0200
TZNAME:EET
DTSTART:20251026T010000
END:STANDARD
BEGIN:DAYLIGHT
TZOFFSETFROM:+0200
TZOFFSETTO:+0300
TZNAME:EEST
DTSTART:20260329T010000
END:DAYLIGHT
BEGIN:STANDARD
TZOFFSETFROM:+0300
TZOFFSETTO:+0200
TZNAME:EET
DTSTART:20261025T010000
END:STANDARD
BEGIN:DAYLIGHT
TZOFFSETFROM:+0200
TZOFFSETTO:+0300
TZNAME:EEST
DTSTART:20270328T010000
END:DAYLIGHT
BEGIN:STANDARD
TZOFFSETFROM:+0300
TZOFFSETTO:+0200
TZNAME:EET
DTSTART:20271031T010000
END:STANDARD
END:VTIMEZONE
BEGIN:VEVENT
DTSTART;VALUE=DATE:20260415
DTEND;VALUE=DATE:20260429
DTSTAMP:20260420T024953
CREATED:20260318T115335Z
LAST-MODIFIED:20260416T113659Z
UID:10001438-1776211200-1777420799@karkkila.fi
SUMMARY:Kirjastogalleria : Karkkilan työväenopiston kuvataideryhmät
DESCRIPTION:Kirjastogalleriassa on esillä 15. – 28.4.2026 Karkkilan työväenopiston kuvataideryhmien kevätnäyttely. Näyttely on avoinna kirjaston aukioloaikoina (myös omatoimiaikoina). Vapaa pääsy\, tervetuloa!
URL:https://karkkila.fi/tapahtuma/kirjastogalleria-karkkilan-tyovaenopiston-kuvataideryhmat/
LOCATION:Karkkilan kaupunginkirjasto\, Valtatie 26 E\, Karkkila\, 03600
CATEGORIES:Karkkilan työväenopisto,Kirjasto,Kirjastogalleria,Kulttuuri ja taide,Matkailu - Visit Karkkila,Näyttelyt
ATTACH;FMTTYPE=image/jpeg:https://karkkila.fi/wp-content/uploads/2025/09/Kirjaston-kesainen-sisaankaynti-2022.jpg
ORGANIZER;CN="Karkkilan ty%C3%B6v%C3%A4enopisto":MAILTO:tyovaenopisto@karkkila.fi
END:VEVENT
BEGIN:VEVENT
DTSTART;TZID=Europe/Helsinki:20260420T163000
DTEND;TZID=Europe/Helsinki:20260420T180000
DTSTAMP:20260420T024953
CREATED:20260116T134947Z
LAST-MODIFIED:20260119T105146Z
UID:10001173-1776702600-1776708000@karkkila.fi
SUMMARY:Törmäyskurssilla teinin kanssa? – Tukea ja tietoa vanhemmille
DESCRIPTION:Oletko törmäyskurssilla teinisi kanssa? Jännittääkö tulevat teinivuodet vai onko tilanne jo päällä? 🌪️ \nTule kuuntelemaan\, mitä teinimuutosten taustalla on ja saamaan vinkkejä\, miten pitää vanhemman ja teinin yhteyttä yllä. 🤗 \nMukaan ovat tervetulleita kaikki asiasta kiinnostuneet. \nKeväällä samansisältöinen tilaisuus järjestetään Teamsissa: \n\nto 5.2. klo 16.30–18.00 (suomeksi)\nma 2.3. klo 16.30–18.00 (in English)\npe 20.3. klo 12.00–13.30 (suomeksi)\nma 20.4. klo 16.30–18.00 (suomeksi)\n\nTilaisuuden järjestää Länsi-Uudenmaan hyvinvointialueen perhesosiaalityö. \n➡️ Ilmoittaudu mukaan tällä lomakkeella: https://forms.office.com/e/DsLx73BjUF \nLisätietoja saa osoitteesta: vanhemmuusryhmat@luvn.fi \nLämpimästi tervetuloa! 🧡 \n🔹 \nÄr du på kollisionskurs med din tonåring? Är du nervös inför de kommande tonåren eller är situationen redan på gång? 🌪️ \nKom och lyssna på vad som ligger bakom tonårsförändringarna och få tips om hur man håller kontakten mellan förälder och tonåring. 🤗 \nAlla som är intresserade av ämnet är välkomna. \nPå våren ordnas ett motsvarande evenemang via Teams: \n\ntors 5.2 kl. 16.30–18.00 (på finska)\nmån 2.3 kl. 16.30–18.00 (på engelska)\nfre 20.3 kl. 12.00–13.30 (på finska)\nmån 20.4 kl. 16.30–18.00 (på finska)\n\nEvenemanget arrangeras av familjesocialarbete. \n➡️ Anmäl dig med detta formulär: https://forms.office.com/e/DsLx73BjUF \nMer information finns på adressen vanhemmuusryhmat@luvn.fi \nHjärtligt välkomna! 🧡
URL:https://karkkila.fi/tapahtuma/tormayskurssilla-teinin-kanssa-tukea-ja-tietoa-vanhemmille/2026-04-20/
LOCATION:Teams
CATEGORIES:Hyvinvointi ja terveys,Länsi-Uudenmaan hyvinvointialue LUVN,Luennot ja koulutus
ATTACH;FMTTYPE=image/jpeg:https://karkkila.fi/wp-content/uploads/2026/01/Oletko-tormayskurssilla-teinisi-kanssa-1.jpg
END:VEVENT
BEGIN:VEVENT
DTSTART;TZID=Europe/Helsinki:20260420T180000
DTEND;TZID=Europe/Helsinki:20260420T203000
DTSTAMP:20260420T024953
CREATED:20260414T080446Z
LAST-MODIFIED:20260414T080446Z
UID:10001493-1776708000-1776717000@karkkila.fi
SUMMARY:Viikkokilpailut Karkkilan Frisbeegolfradalla
DESCRIPTION:Karkkilan Frisbeegolfkerho järjestää viikkokilpailuja Karkkilan Frisbeegolfradalla joka viikon maanantaina klo 18:00. Kilpailut järjestetään koko kesän ajan syyskuulle saakka.\nKilpailumuotona on kuukauden viimeistä maanantaita lukuunottamatta yksilökilpailu ja kilpailut käydään GOLD-2024 radalla.\nKuukauden viimeisenä maanantaina kilpailut pidetään parikilpailuna. \nTarkemmat tiedot kilpailuista ja ilmoittautuminen tapahtuu Metrix-järjestelmässä\nhttps://dgmtrx.com/3558775 \nTietoa Karkkilan Frisbeegolfkerhon toiminnasta\nhttps://www.karkkilanfg.com/
URL:https://karkkila.fi/tapahtuma/viikkokilpailut-karkkilan-frisbeegolfradalla/2026-04-20/
LOCATION:Karkkilan Frisbeegolfrata\, Asemakatu 1\, KARKKILA\, 03600\, Finland
CATEGORIES:Liikunta ja urheilu
ATTACH;FMTTYPE=image/jpeg:https://karkkila.fi/wp-content/uploads/2026/04/Nayttokuva-2026-04-14-kello-10.28.58.jpg
ORGANIZER;CN="Karkkilan Frisbeegolfkerho":MAILTO:KFGhallitus@gmail.com
END:VEVENT
END:VCALENDAR