BEGIN:VCALENDAR
VERSION:2.0
PRODID:-//Karkkilan kaupunki - ECPv6.15.20//NONSGML v1.0//EN
CALSCALE:GREGORIAN
METHOD:PUBLISH
X-WR-CALNAME:Karkkilan kaupunki
X-ORIGINAL-URL:https://karkkila.fi
X-WR-CALDESC:Tapahtumat Karkkilan kaupunki
REFRESH-INTERVAL;VALUE=DURATION:PT1H
X-Robots-Tag:noindex
X-PUBLISHED-TTL:PT1H
BEGIN:VTIMEZONE
TZID:Europe/Helsinki
BEGIN:DAYLIGHT
TZOFFSETFROM:+0200
TZOFFSETTO:+0300
TZNAME:EEST
DTSTART:20250330T010000
END:DAYLIGHT
BEGIN:STANDARD
TZOFFSETFROM:+0300
TZOFFSETTO:+0200
TZNAME:EET
DTSTART:20251026T010000
END:STANDARD
BEGIN:DAYLIGHT
TZOFFSETFROM:+0200
TZOFFSETTO:+0300
TZNAME:EEST
DTSTART:20260329T010000
END:DAYLIGHT
BEGIN:STANDARD
TZOFFSETFROM:+0300
TZOFFSETTO:+0200
TZNAME:EET
DTSTART:20261025T010000
END:STANDARD
BEGIN:DAYLIGHT
TZOFFSETFROM:+0200
TZOFFSETTO:+0300
TZNAME:EEST
DTSTART:20270328T010000
END:DAYLIGHT
BEGIN:STANDARD
TZOFFSETFROM:+0300
TZOFFSETTO:+0200
TZNAME:EET
DTSTART:20271031T010000
END:STANDARD
END:VTIMEZONE
BEGIN:VEVENT
DTSTART;VALUE=DATE:20260415
DTEND;VALUE=DATE:20260429
DTSTAMP:20260425T181743
CREATED:20260318T115335Z
LAST-MODIFIED:20260416T113659Z
UID:10001438-1776211200-1777420799@karkkila.fi
SUMMARY:Kirjastogalleria : Karkkilan työväenopiston kuvataideryhmät
DESCRIPTION:Kirjastogalleriassa on esillä 15. – 28.4.2026 Karkkilan työväenopiston kuvataideryhmien kevätnäyttely. Näyttely on avoinna kirjaston aukioloaikoina (myös omatoimiaikoina). Vapaa pääsy\, tervetuloa!
URL:https://karkkila.fi/tapahtuma/kirjastogalleria-karkkilan-tyovaenopiston-kuvataideryhmat/
LOCATION:Karkkilan kaupunginkirjasto\, Valtatie 26 E\, Karkkila\, 03600
CATEGORIES:Karkkilan työväenopisto,Kirjasto,Kirjastogalleria,Kulttuuri ja taide,Matkailu - Visit Karkkila,Näyttelyt
ATTACH;FMTTYPE=image/jpeg:https://karkkila.fi/wp-content/uploads/2025/09/Kirjaston-kesainen-sisaankaynti-2022.jpg
ORGANIZER;CN="Karkkilan ty%C3%B6v%C3%A4enopisto":MAILTO:tyovaenopisto@karkkila.fi
END:VEVENT
BEGIN:VEVENT
DTSTART;VALUE=DATE:20260425
DTEND;VALUE=DATE:20260427
DTSTAMP:20260425T181743
CREATED:20260119T080240Z
LAST-MODIFIED:20260124T114147Z
UID:10000465-1777075200-1777247999@karkkila.fi
SUMMARY:Käykää sisään! taidenäyttely Huitin huoneessa
DESCRIPTION:Karkkilassa Suomen Valimomuseossa sijaitsevan Huitin taidehuoneen näyttely Käykää sisään! kutsuu tutustumaan Ilmari Huitin interiöörejä kuvaaviin teoksiin. \nSisätilanäkymistä välittyy Huitin esteettinen silmä\, jonka avulla hän on tallentanut mieleisiään vanhoja tupanäkymiä uuneineen ja räsymattoineen tai asetellut itselleen tärkeitä kalusteita ja sisustusesineitä tasapainoisiksi sommitelmiksi. \nOsa teoksista päästää kurkistamaan Ilmari Huitin kulloiseenkin omaan kotiin\, osa esittelee lähipiiriin kuuluvien ystävien tai sukulaisten koteja. Myös Karkkilan Vaskijärvellä sijaitsevan Myllymäen vanhan torpan sisätilojen entisajan tunnelma ja kalustuksen yksinkertaisuus välittyy useissa tauluissa. Torppaan Ilmari Huitti keräsi aikanaan museoesinekokoelmaansa. \nNäyttelyyn on saatu tauluja eri kokoelmista 18 kappaletta. Ne edustavat taiteilijan 1930-\, 1940- ja 1950-luvun töitä. Useita niistä ei ole nähty näyttelyissä lainkaan aiemmin\, vaan ne ovat olleet yksityiskotien kätköissä. Nyt esillä on erityisesti HH-Taidekokoelmiin päätyneitä teoksia\, mutta mukana on myös Taidemaalari Ilmari Huitin Säätiön sekä yksityishenkilöiltä ja  Lopen kunnalta lainaan saatuja tauluja. \n– Ilmari Huitin interiööreissä voi aistia entisajan kodin rauhallisen ja kiireettömän tunnelman\, kuvailee hallituksen puheenjohtaja Hannu Huitti näyttelyn järjestäneestä Taidemaalari Ilmari Huitin Säätiöstä. – Niistä välittyy myös Ilmari Huitin arvostus vanhoja rakennuksia\, kalusteita ja muita esineitä kohtaan. \nNäyttely on avoinna 26.4.2026 asti viikonloppuisin la ja su klo 12–15. Liput 8/5 €\, alle 18-vuotiaat ilmaiseksi. Museossa käy Epassi\, Museokortti ja Kaikukortti.
URL:https://karkkila.fi/tapahtuma/kaykaa-sisaan-taidenayttely-huitin-huoneessa-2-3/2026-04-25/
LOCATION:Valimomuseo\, Bremerintie 10\, Karkkila\, 03600\, Finland
CATEGORIES:Huitin huone,Karkkilan kaupunki,Matkailu - Visit Karkkila,Näyttelyt
ATTACH;FMTTYPE=image/jpeg:https://karkkila.fi/wp-content/uploads/2025/09/IMG_8740.jpg
END:VEVENT
BEGIN:VEVENT
DTSTART;TZID=Europe/Helsinki:20260425T093000
DTEND;TZID=Europe/Helsinki:20260425T123000
DTSTAMP:20260425T181743
CREATED:20260415T081703Z
LAST-MODIFIED:20260424T122314Z
UID:10001570-1777109400-1777120200@karkkila.fi
SUMMARY:Karkkilan seurakunnan Naisten Brunssi
DESCRIPTION:Naisten hyvinvointi\, armollisuus ja elämän tasapaino nousevat keskiöön Karkkilan seurakunnan järjestämässä keväisessä brunssitilaisuudessa 25.4. klo 9.30–12.30\nPohjanpirtillä kokoontuva naisten brunssi tarjoaa hetken hengähtää arjen keskellä hyvän ruoan\, yhteyden ja merkityksellisen ohjelman parissa. Tilaisuuden vieraaksi saapuu arvostettu tunnelukkoterapeutti\, pappi ja tietokirjailija Miia Moisio\, jonka puheenvuorot ovat koskettaneet ja rohkaisseet lukuisia kuulijoita ympäri Suomen.\nMoisio tunnetaan erityisesti kyvystään yhdistää syvällinen psykologinen ymmärrys ja hengellinen näkökulma tavalla\, joka avaa uusia oivalluksia elämän haasteisiin. Hänen työnsä ytimessä on ajatus siitä\, että vaikeatkin kokemukset voivat kääntyä kasvuksi ja voimavaraksi. Hänen uusin teoksensa\, Ylivastuullisten naisten valtakunta\, on herättänyt laajaa keskustelua erityisesti siitä\, kuinka moni nainen kantaa harteillaan liikaa vastuuta – ja miten tästä kuormasta voi oppia päästämään irti.\nBrunssi alkaa klo 9.30 yhteisellä ruokailulla\, jonka jälkeen siirrytään ohjelmalliseen osuuteen. Moision puheenvuoro kutsuu pysähtymään itselle tärkeiden kysymysten äärelle: mistä oma kuormitus syntyy\, ja miten voisi elää hieman kevyemmin\, armollisemmin ja vapaammin. Tilaisuudessa on myös mahdollisuus tutustua ja hankkia Miian kirjoja.\nBrunssista kerätään vapaaehtoinen maksu Karkkilan seurakunnan diakoniatyölle.\nNaisten brunssi tarjoaa ainutlaatuisen tilaisuuden yhdistää hyvä ruoka\, lämmin yhteys ja syvällinen sisältö – hetki\, josta voi ammentaa voimaa pitkälle kevääseen. Ovet aukeavat klo 9.15. Lämpimästi tervetuloa!
URL:https://karkkila.fi/tapahtuma/karkkilan-seurakunnan-naisten-brunssi/
LOCATION:Pohjanpirtti\, Tammelantie 1\, KARKKILA\, 03600\, Finland
CATEGORIES:Hyvinvointi ja terveys,Karkkilan seurakunta
ATTACH;FMTTYPE=image/jpeg:https://karkkila.fi/wp-content/uploads/2026/04/esite-naisten-brunssille.jpg
END:VEVENT
BEGIN:VEVENT
DTSTART;TZID=Europe/Helsinki:20260425T100000
DTEND;TZID=Europe/Helsinki:20260425T140000
DTSTAMP:20260425T181743
CREATED:20260423T164802Z
LAST-MODIFIED:20260424T122417Z
UID:10001591-1777111200-1777125600@karkkila.fi
SUMMARY:Kaupungin Raksabonusedut ja tarjoustontit esittelyssä V.Leinon kevätmarkkinoilla
DESCRIPTION:Tervetuloa tonttikaupoille V.Leinon markkinoille! \nKarkkilan kaupungin Raksabonustarjoukset ja kaupungin palvelut ovat esittelyssä Leinon kevätmarkkinoilla (Yrittäjäntie 24) perjantaina klo 10–16 ja lauantaina klo 10–14. \nTule tapaamaan rakennusvalvonnan ja tonttimyynnin edustajia sekä saamaan tietoa Karkkilasta ja ajankohtaisista tapahtumistamme! \nKarkkilan kaupunki tarjoaa omakotitalon rakentajille mahtavia etuja ja tarjouksia.  https://karkkila.fi/asuminen-ja-ymparisto/rakentajan-raksabonus/  \nTervetuloa markkinoille! \nK-Rauta V.Leino Oy on Karkkilan kaupungin markkinointiyhteistyökumppani.
URL:https://karkkila.fi/tapahtuma/kaupungin-raksabonusedut-ja-tarjoustontit-esittelyssa-k-rauta-v-leinon-kevatmarkkinoilla-24-25-4/
LOCATION:K-Rauta V. Leino\, Yrittäjäntie 24\, Karkkila\, 03600\, Finland
CATEGORIES:Elinkeino- ja yritystapahtumat,Karkkilan kaupunki,Markkinat ja myyjäiset
ATTACH;FMTTYPE=image/jpeg:https://karkkila.fi/wp-content/uploads/2026/04/kar-raksabonus-banneri-pienennetty-1.jpg
END:VEVENT
BEGIN:VEVENT
DTSTART;TZID=Europe/Helsinki:20260425T110000
DTEND;TZID=Europe/Helsinki:20260425T150000
DTSTAMP:20260425T181743
CREATED:20260413T050139Z
LAST-MODIFIED:20260424T122523Z
UID:10001475-1777114800-1777129200@karkkila.fi
SUMMARY:Högforsin ruukin kevätkirppis
DESCRIPTION:Högforsin ruukin suosittu kirppistapahtuma järjestetään jälleen Konepajahallissa la 25.4 klo 11-15.\n\nVaraa oma myyntipaikkasi laittamalla meille sähköpostia info@alaemali.fi\nPaikkojen koot ja hinnat:\n4×4    35€ (kannatusjäsenet)     45€ (ei jäsenet)\n4×2    25€ (kannatusjäsenet)     35€ (ei jäsenet)\n2×2    15€ (kannatusjäsenet)      25€ (ei jäsenet)\n\nMeidän kauttamme on mahdollista vuokrata myös pöytä myyntipaikallesi.Iso pöytä     10€ (4×2 tai 4×4 kokoiselle paikalle)Pieni pöytä   5€ (2×2) kokoiselle paikalle)Huom! Pöytiä rajallinen määrä.\n\nTapahtumassa palvelee myös yhdistyksen pop-up kahvila itseleivottujen herkkujen kera.\nTervetuloa myymään ja/tai tekemään löytöjä!
URL:https://karkkila.fi/tapahtuma/hogforsin-ruukin-kevatkirppis/
LOCATION:Konepajahalli\, Valurinkatu 3\, Karkkila\, 03600\, Finland
CATEGORIES:Högforsin ruukki,Markkinat ja myyjäiset,Matkailu - Visit Karkkila,Yhdistysten tapahtumat
ATTACH;FMTTYPE=image/jpeg:https://karkkila.fi/wp-content/uploads/2026/04/Kirppis1-1.jpg
ORGANIZER;CN="Ala-Emalin Kulttuuriyhdistys Monttu ry":MAILTO:ala-emali.karkkila@gmail.com
END:VEVENT
BEGIN:VEVENT
DTSTART;TZID=Europe/Helsinki:20260425T150000
DTEND;TZID=Europe/Helsinki:20260425T170000
DTSTAMP:20260425T181743
CREATED:20251215T111843Z
LAST-MODIFIED:20260424T122627Z
UID:10001106-1777129200-1777136400@karkkila.fi
SUMMARY:Työväenopiston kevätjuhla
DESCRIPTION:Työväenopiston kevätjuhla 25.4.2026 klo 15.00 Karkkilasalissa (Anttilankatu 2-4). \nOHJELMA \n\nTyöväenopiston rehtori Jari Valtari avaa juhlan ja kertoo opiston kuulumisia\nMieskuoro esiintyy Arja Virtasen johdolla\nLauri Jämsänen esiintyy kitaraoppilaansa kanssa\nHanna Niittymäen luovan kirjoittamisen ryhmä Faktaa ja fiktiota\nAnsiomerkkien jako\n\nVapaa pääsy\, tervetuloa!
URL:https://karkkila.fi/tapahtuma/tyovaenopiston-kevatjuhla/
LOCATION:Karkkilasali\, Anttilankatu 2-4\, Karkkila\, 03600\, Finland
CATEGORIES:Juhlat ja festivaalit,Karkkilan työväenopisto,Karkkilasali,Kulttuuri ja taide,Matkailu - Visit Karkkila
ATTACH;FMTTYPE=image/jpeg:https://karkkila.fi/wp-content/uploads/2025/12/Kevat-juhlajuliste2026SOME.jpg
ORGANIZER;CN="Karkkilan ty%C3%B6v%C3%A4enopisto":MAILTO:tyovaenopisto@karkkila.fi
END:VEVENT
BEGIN:VEVENT
DTSTART;TZID=Europe/Helsinki:20260425T160000
DTEND;TZID=Europe/Helsinki:20260425T193000
DTSTAMP:20260425T181743
CREATED:20260304T080022Z
LAST-MODIFIED:20260424T122732Z
UID:10001411-1777132800-1777145400@karkkila.fi
SUMMARY:Tulipää-elokuva - Heikki Valpola 80 vuotta -juhlanäytös Kino Laikassa
DESCRIPTION:Elokuvateatteri Kino Laikassa esitetään la 25.4. klo 16 elokuva TULIPÄÄ. Näytös on säveltäjä HEIKKI VALPOLA 80-VUOTTA JUHLANÄYTÖS \nLiput 13 €. Ennakkoliput: www.kinolaika.fi \nNäytöksessä mukana tekijävieraina mm. näyttelijä Asko Sarkola ja tuottaja Claes Olsson ja säveltäjä Heikki Valpola. \nOnnea Heikki Valpola – 80-vuotta! \nRaumalta kotoisin oleva ja Karkkilaan asettunut säveltäjä Heikki Valpola on monipuolisen ja tuottoisan uransa aikana säveltänyt musiikkia kymmeniin elokuviin. Heikki Valpolan sävellyksiä on mm. elokuvissa Tulipää (1980)\, Manillaköysi (1976)\, Miestä ei voi raiskata (1978)\, Aikalainen (1984)\, Vartioitu kylä 1944(1978)\, Mustasilmä-Susanna ja lepakkoluolan aarre (1997)\, Eros ja Psykhe (1998)\, Matka on pitkä (1994)\, Tuntematon sotilas (1985) ja Rautatie (1973) \nJuhlanäytöksenä nähtävä Pirjo Honkasalon ja Pekka Lehdon ohjaama Tulipää perustuu kirjailija Algot Untolan (Maiju Lassila\, Ilmari Rantamala) monivaiheiseen elämään. Tulipää on historiallisen elokuvan kuvauksena omaa luokkaansa Suomessa. Elokuva voitti neljä Jussi-palkintoa ja oli Kultainen palmu -ehdokkaana Cannesin elokuvajuhlilla vuonna 1981. \nOhjaus: Pirjo Honkasalo & Pekka Lehto.\nTuottaja: Claes Olsson\nNäyttelijät: Asko Sarkola\, Rea Mauranen\, Kari Franck\, Esko Salminen. \n 
URL:https://karkkila.fi/tapahtuma/tulipaa-elokuva-heikki-valpola-80-vuotta-juhlanaytos-kino-laikassa/
LOCATION:Elokuvateatteri Kino Laika\, Valurinkatu 2C\, KARKKILA\, 03600\, Finland
CATEGORIES:Elokuvat,Juhlat ja festivaalit,Matkailu - Visit Karkkila,Yritysten tapahtumat
ATTACH;FMTTYPE=image/jpeg:https://karkkila.fi/wp-content/uploads/2026/03/Tulipaa_elokuvajuliste_Erkki_Ruuhinen.jpg
END:VEVENT
BEGIN:VEVENT
DTSTART;TZID=Europe/Helsinki:20260425T170000
DTEND;TZID=Europe/Helsinki:20260425T210000
DTSTAMP:20260425T181743
CREATED:20260407T114803Z
LAST-MODIFIED:20260424T122838Z
UID:10001465-1777136400-1777150800@karkkila.fi
SUMMARY:Karaoketanssit
DESCRIPTION:Tuorilan työväentalolla\, Kauppatie 52.Suosiota keränneet KARAOKETANSSIT 25.4.2026 klo 17-21\, liput 12€ sis. kahvin ja pullan\, maksu kortti/käteinen. TERVETULOA!
URL:https://karkkila.fi/tapahtuma/karaoketanssit-4/
LOCATION:Tuorilan työväentalo\, Kauppatie 52\, Karkkila\, 03600\, Finland
CATEGORIES:Hyvinvointi ja terveys,Ikääntyneiden tapahtumat,Musiikki ja konsertit,Yhdistysten tapahtumat
END:VEVENT
END:VCALENDAR