BEGIN:VCALENDAR
VERSION:2.0
PRODID:-//Karkkilan kaupunki - ECPv6.15.20//NONSGML v1.0//EN
CALSCALE:GREGORIAN
METHOD:PUBLISH
X-WR-CALNAME:Karkkilan kaupunki
X-ORIGINAL-URL:https://karkkila.fi
X-WR-CALDESC:Tapahtumat Karkkilan kaupunki
REFRESH-INTERVAL;VALUE=DURATION:PT1H
X-Robots-Tag:noindex
X-PUBLISHED-TTL:PT1H
BEGIN:VTIMEZONE
TZID:Europe/Helsinki
BEGIN:DAYLIGHT
TZOFFSETFROM:+0200
TZOFFSETTO:+0300
TZNAME:EEST
DTSTART:20250330T010000
END:DAYLIGHT
BEGIN:STANDARD
TZOFFSETFROM:+0300
TZOFFSETTO:+0200
TZNAME:EET
DTSTART:20251026T010000
END:STANDARD
BEGIN:DAYLIGHT
TZOFFSETFROM:+0200
TZOFFSETTO:+0300
TZNAME:EEST
DTSTART:20260329T010000
END:DAYLIGHT
BEGIN:STANDARD
TZOFFSETFROM:+0300
TZOFFSETTO:+0200
TZNAME:EET
DTSTART:20261025T010000
END:STANDARD
BEGIN:DAYLIGHT
TZOFFSETFROM:+0200
TZOFFSETTO:+0300
TZNAME:EEST
DTSTART:20270328T010000
END:DAYLIGHT
BEGIN:STANDARD
TZOFFSETFROM:+0300
TZOFFSETTO:+0200
TZNAME:EET
DTSTART:20271031T010000
END:STANDARD
END:VTIMEZONE
BEGIN:VEVENT
DTSTART;TZID=Europe/Helsinki:20261010T180000
DTEND;TZID=Europe/Helsinki:20261010T203000
DTSTAMP:20260419T151056
CREATED:20260311T094131Z
LAST-MODIFIED:20260311T094131Z
UID:10001426-1791655200-1791664200@karkkila.fi
SUMMARY:YKSPIHLAJAN KINO-ORKESTERI - KINO LAIKAN 5-VUOTISHIPAT!
DESCRIPTION:Ykspihlajan Kino-Orkesteri konsertoi la 10.10. klo 18 Kino Laikassa.\nKonsertti on samalla Kino Laikan 5-vuotisjuhlat! Lipun hintaan sisältyy kuohujuoma! Yllätyksiä luvassa! \nYkspihlajan Kino-orkesteri on Kokkolan satamakaupunginosasta lähtöisin oleva yhtye\, joka on kolunnut eurooppalaisia\nelokuvafestivaaleja säestäen pääasiassa Juho Kuosmasen mykkäelokuvia. Keikoilla soitettava ohjelmisto koostuu pääasiassa\nmenneiden vuosikymmenten elokuvamusiikin helmistä\, jotka ovat saaneet uuden elämän tuoreina sovituksina ja sanoituksina. \nKino-orkesterissa laulavat ja soittavat sisarukset Anna\, Oona ja Laura Airola\, sekä kitaristit Miika Snåre ja Tuomas Asanti\, trumpetisti\nMiia Reko\, basisti Reetta Kuisma sekä rumpali Ilkka Tolonen\, jota Karkkilassa tuuraa Aapo Niininen.
URL:https://karkkila.fi/tapahtuma/ykspihlajan-kino-orkesteri-kino-laikan-5-vuotishipat/
LOCATION:Elokuvateatteri Kino Laika\, Valurinkatu 2C\, KARKKILA\, 03600\, Finland
CATEGORIES:Musiikki ja konsertit
ATTACH;FMTTYPE=image/jpeg:https://karkkila.fi/wp-content/uploads/2026/03/Ykspihlajan-Kino-orkesteri-c-Sami-Kuokkanen-7360×4912.jpg
END:VEVENT
BEGIN:VEVENT
DTSTART;TZID=Europe/Helsinki:20261022T180000
DTEND;TZID=Europe/Helsinki:20261022T193000
DTSTAMP:20260419T151056
CREATED:20260210T065006Z
LAST-MODIFIED:20260216T084518Z
UID:10001299-1792692000-1792697400@karkkila.fi
SUMMARY:Karkkilan Karjalaseuran syyskokous
DESCRIPTION:Karkkilan Karjalaseuran syyskokous 22.10.2026 klo 18.00 Pohjanpirtillä. Käsitellään sääntömääräiset asiat. Kahvitarjoilu. Tervetuloa!
URL:https://karkkila.fi/tapahtuma/karkkilan-karjalaseuran-syyskokous/
LOCATION:Pohjanpirtti\, Tammelantie 1\, KARKKILA\, 03600\, Finland
CATEGORIES:Osallisuus, verkostoituminen ja yhteisöt
END:VEVENT
BEGIN:VEVENT
DTSTART;TZID=Europe/Helsinki:20261024T190000
DTEND;TZID=Europe/Helsinki:20261024T210000
DTSTAMP:20260419T151056
CREATED:20260407T115243Z
LAST-MODIFIED:20260407T115243Z
UID:10001460-1792868400-1792875600@karkkila.fi
SUMMARY:MARISKA - KONSERTTI KINO LAIKASSA
DESCRIPTION:MARISKA konsertoi Kino Laikassa la 24.10. klo 19. \nLaulan\, kirjoitan.\nYksi Suomen palkituimmista lauluntekijöistä tekee tunnelmallisen\nkonserttikiertueen\, jossa hän esittää kirjoittamiaan kappaleita.\nOhjelmistoon mahtuu niin omia kuin toisten levyttämiä lauluja. \nKesto: 2 x 45 min / Väliaika: 20 min
URL:https://karkkila.fi/tapahtuma/mariska-konsertti-kino-laikassa/
LOCATION:Elokuvateatteri Kino Laika\, Valurinkatu 2C\, KARKKILA\, 03600\, Finland
CATEGORIES:Musiikki ja konsertit
ATTACH;FMTTYPE=image/jpeg:https://karkkila.fi/wp-content/uploads/2026/03/Jy4Va-Dw.jpeg
END:VEVENT
BEGIN:VEVENT
DTSTART;TZID=Europe/Helsinki:20261115T100000
DTEND;TZID=Europe/Helsinki:20261115T150000
DTSTAMP:20260419T151056
CREATED:20260209T125752Z
LAST-MODIFIED:20260209T125752Z
UID:10001295-1794736800-1794754800@karkkila.fi
SUMMARY:Marrasmarkkinat
DESCRIPTION:Perinteiset markkinat Pohjanpirtillä. Paikkavaraukset sähköpostilla marrasmarkkinat@gmail.com \nPaikkoja voi varata elokuusta eteenpäin. Paikan koko 200×70
URL:https://karkkila.fi/tapahtuma/marrasmarkkinat/
LOCATION:Pohjanpirtti\, Tammelantie 1\, KARKKILA\, 03600\, Finland
CATEGORIES:Markkinat ja myyjäiset
END:VEVENT
BEGIN:VEVENT
DTSTART;TZID=Europe/Helsinki:20261121T120000
DTEND;TZID=Europe/Helsinki:20261121T140000
DTSTAMP:20260419T151056
CREATED:20251209T085600Z
LAST-MODIFIED:20251209T085600Z
UID:10001083-1795262400-1795269600@karkkila.fi
SUMMARY:Karkkilan Kuulon Kuulolähipalvelu
DESCRIPTION:Kuulolähipalvelussa yhdistyksen vapaaehtoiset opastavat kuulokojeen käyttöön sekä tukevat ja neuvovat kuuloon liittyvissä kysymyksissä. Tarvittaessa tehdään pieniä huoltotöitä kuulokojeille\, kuten letkun vaihtoa ja korvakappaleen puhdistusta. Lisäksi mahdollisuus ostaa mm pattereita\, letkua ja vahasuojia (rajoitetut mallit). Palvelu on maksutonta.\nTervetuloa!
URL:https://karkkila.fi/tapahtuma/karkkilan-kuulon-kuulolahipalvelu-8/
LOCATION:Kansankulma\, Helsingintie 54\, KARKKILA\, 03600\, Finland
CATEGORIES:Yhdistysten tapahtumat
END:VEVENT
BEGIN:VEVENT
DTSTART;TZID=Europe/Helsinki:20261121T200000
DTEND;TZID=Europe/Helsinki:20261121T213000
DTSTAMP:20260419T151057
CREATED:20260327T084328Z
LAST-MODIFIED:20260327T084328Z
UID:10001458-1795291200-1795296600@karkkila.fi
SUMMARY:Dave Lindholm & Pepe Ahlqvist: WALKIN’ BLUES -kiertuekonsertti KINO LAIKASSA
DESCRIPTION:Dave Lindholm & Pepe Ahlqvist: WALKIN’ BLUES -kiertuekonsertti KINO LAIKASSA la 21.11. klo 20. Dave Lindholmin ja Pepe Ahlqvistin ainutlaatuinen\, ensimmäinen yhteinen konserttikiertue tuo lavalle kaksi kotimaisen bluesin legendaa. Ohjelmisto rakentuu kokonaisuudessaan bluesmusiikin ympärille – luvassa on juurevaa soittoa ja vahvaa tulkintaa. Dave Lindholm – kitara ja laulu Pepe Ahlqvist – kitara\, laulu ja huuliharppu
URL:https://karkkila.fi/tapahtuma/dave-lindholm-pepe-ahlqvist-walkin-blues-kiertuekonsertti-kino-laikassa/
LOCATION:Elokuvateatteri Kino Laika\, Valurinkatu 2C\, KARKKILA\, 03600\, Finland
CATEGORIES:Musiikki ja konsertit
ATTACH;FMTTYPE=image/jpeg:https://karkkila.fi/wp-content/uploads/2026/03/Dave.jpeg
END:VEVENT
END:VCALENDAR